Workbook
Name FileFormat: ListDomains!$B$24:$B$42
Name ServiceLanguage: ListDomains!$B$5:$B$7
Name Thesaurus_KeyWords: [1]ListDomains!$I$2:$I$2259
Name Thesaurus_KeyWords: [1]ListDomains!$I$2:$I$2259
Name Thesaurus_KeyWords: [2]ListDomains!$I$2:$I$2259
Name Thesaurus_KeyWords: ListDomains!$I$2:$I$2259

Sheet 1- Generic Parameters
B2: Generic Parameters
B3: Parameter Name | C3: Value | D3: ADDITIONAL INFO
B4: Email address | D4: The email address of the publisher (must be already registered in the registry).
B5: Department | D5: The department acronym in english (from TBS) to which the dataset will be related (must be already registered in the registry). Important : This is case sensitive. Use acronyms from the list of abrevations given on the TBS web page http://www.tbs-sct.gc.ca/hgw-cgf/oversight-surveillance/communications/fip-pcim/reg-eng.asp
B6: Metadata Record Identifier (FGP Catalog) | D6: The metadata uuid taken from the FGP catalog. To find this uuid, select the targeted geospatial record in the FGP Catalogue and scroll down to the “File Identifier” in the “Additional Information” section.
B7: ArcGIS Server ID (Optional) | D7: This information is not necessary if you want to use the default ArcGIS Server ID that is set to his department in the DDR Registry. If you want to use another ArcGIS Server licence, you must contact the DDR Administrator in order to get a new ArcGIS Server ID to enter in this field.
B8: Download repository ID (FTP Site) (Optional) | D8: This information is not necessary if you want to use the default Download repository ID that is set to his department in the DDR Registry. If you want to use another repository, you must contact the DDR Administrator in order to get a new Download repository ID to enter in this field.
B9: Download folder name (ftp root folder name) | D9: IF your NOT publishing a Download Service: Leave this cell empty This will be the name of the main folder in which all of your downloadable files will be uploaded. Therefore, the download folder in your input package MUST be named after the value inserted in this field and compressed in ZIP format (Ex.: canada_landcover_2000_2011.zip).
B10: Core Subject Term (ftp sub folder name) | D10: IF your NOT publishing a Download Service: Leave this cell empty Here you need to select the most relevant Core Subject Term for your dataset. The terms are concatenations of english and french. You can use the drop-down list or copy-paste one of the elements provided in the document named FGP_DDR_Thesaurus_Subject_Terms_for_FTP_Site.docx. The Core Subject Thesaurus (extracted form the government of Canada Core Subject Thesaurus) will be used on the ftp site as the name of the folder in which your download package will be uploaded, after the ftp domain name and your department acronyms in english and french.

Sheet GENERIC_PARAMETERS
A1: EMAIL | B1: DEPARTMENT | C1: METADATA_UUID | D1: ARCGIS_SERVER_ID | E1: DOWNLOAD_INFO_ID | F1: CORE_SUBJECT_TERM | G1: DOWNLOAD_PACKAGE_NAME
A2: =IF(ISBLANK('1- Generic Parameters'!C4),"",'1- Generic Parameters'!C4) | B2: =IF(ISBLANK('1- Generic Parameters'!C5),"",'1- Generic Parameters'!C5) | C2: =IF(ISBLANK('1- Generic Parameters'!C6),"",'1- Generic Parameters'!C6) | D2: =IF(ISBLANK('1- Generic Parameters'!C7),"",'1- Generic Parameters'!C7) | E2: =IF(ISBLANK('1- Generic Parameters'!C8),"",'1- Generic Parameters'!C8) | F2: =IF(ISBLANK('1- Generic Parameters'!C10),"",'1- Generic Parameters'!C10) | G2: =IF(ISBLANK('1- Generic Parameters'!C9),"",'1- Generic Parameters'!C9)

Sheet 2- Service Parameters
B2: READ BEFORE FILLING THIS PAGE
B3: 1. This section gives details to realize the Web Service Publication (Information and Metadata). If no service publication is requested, this section must be left empty.
B4: 2. Service 1 and 2 columns refer to a possible French and English publication. Both columns must be filled if two FGDB (one french and one english) are provided.
B5: 3. If you want to update a FGDB (with DDR_Update) that is shared by 2 services, you must fill both Service 1 and Service 2 columns.
B6: 4. If a bilingual FGDB is provided, only fill the Service 1 column.
B7: 5. Read carefully the document named SOP4401-InputPackageCreation_aa01.docx before filling this page, especially regarding the naming conventions
B9: Image Service information
C10: ADDITIONAL INFO | D10: Service 1 | E10: Service 2
B11: Service Language | C11: Select the language used to create the service.
B12: Service Name | C12: The service must have the same name than the Mosaic or Raster Dataset related to this service.
B13: Service Type | C13: As this Control file template is intended to Publish or Update an Image Service, the value is locked to (ArcGIS) ImageServer service type. Make certain that your service type is ImageServer: - MapServer (for raster or vector data WITH MXD) - Image Server (for raster data WITHOUT MXD) IF NOT use a Map ControlFile template | D13: ImageServer | E13: ImageServer
B14: (Raster or Mosaic) Dataset Filename | C14: The dataset (Can be a Mosaic Dataset or a Raster Dataset) filename must be the same than the FGDB related to this service. Though, if 2 distinct services in both official languages (one in french, one in english) share the same FGDB, the Mosaic Datasets should have the same name than the FGDB with the addition of the proper language suffix (_fr , _en) | D14: =D12 -> 0 | E14: =E12 -> 0
B15: Dataset File format | C15: ="Dataset Format:"&" "&VLOOKUP(D15,ListDomains!C24:D41,2,FALSE) -> Dataset Format: File Geodatabase | D15: .gdb.zip | E15: =D15 -> .gdb.zip
B16: Dataset Filename | C16: Enter the name of the File Geodatabase related to the service. You can provide one unique FGDB per service or the same FGDB for both services (en and fr) containing the 2 mosaic or raster dataset. Don't forget to add the .gdb.zip extension (Thereby, the FGDB needs to be zipped in your input package).
B17: Service Folder Name | C17: This will be the name of the subfolder where the service will be deployed in ArcGIS Server. The department acronym in english (from TBS) could be good choice. (see Generic Parameters)
B18: Service Capabilities
B19: Operations allowed (Image Service) | C19: Select the operations that will be allowed on your image service. The "Image" option is always enabled and it allows the image to be displayed.The "Metadata" option allows clients to view metadata information for each raster in a raster or mosaic dataset. The "Mensuration" option allows clients to perform various measure operations
B20: Allow Raster Functions | C20: IF you want to allow Raster Functions in your Image Service this field must be set to "true".
B21: Raster Functions Folder Name | C21: IF the field "Allow Raster Functions" is set to "true", You must include in your Input Package (as shown in this auto filled field), a folder: 1. Containing all your Raster Function Template file(s) (.rft.xml) 2. Having the same name than the Mosaic Dataset related to this service 3. Compressed in ZIP format (ex.: canada_landcover_2000_2011_en.rft.zip). | D21: =IF(D20="true",CONCATENATE(D14,".rft.zip")) -> FALSE | E21: =IF(E20="true",CONCATENATE(E14,".rft.zip")) -> FALSE
B22: Mosaic Dataset is Referenced? | C22: If the dataset you want to publish is a Referenced Mosaic Dataset, this field must be set to "true".
B23: Primary Mosaic Dataset Name | C23: The name of the source Mosaic Dataset that the Mosaic Dataset entered in field "(Raster or Mosaic) Dataset Filename" is refencing. IF a value is entered in this field, the above "Mosaic Dataset is Referenced?" field must be set to "true".
B24: Allow Raster Functions for Primary Mosaic Dataset | C24: This field must be set to "true" iF the field "Mosaic Dataset is Referenced?" is set to "true" and if you want to allow Raster Functions for your Primary Mosaic Dataset in your Image Service.
B25: Primary Mosaic Dataset Raster Functions Folder Name | C25: IF the field "Allow Raster Functions for Primary Mosaic Dataset" is set to "true", You must include in your Input Package (as shown in this auto filled field), a folder: 1. Containing all your Raster Function Template file(s) (.rft.xml) 2. Having the same name than the Primary Mosaic Dataset related to this service 3. Compressed in ZIP format (ex.: canada_landcover_2000_2011.rft.zip). | D25: =IF(D24="true",CONCATENATE(D23,".rft.zip")) -> FALSE | E25: =IF(E24="true",CONCATENATE(E23,".rft.zip")) -> FALSE
B26: WMS | C26: If you want to activate the OGC WMS capabilities for your image service, set this to true.
B27: Use external capabilities file | C27: Set this to false if you want the WMS metadata to be filled from what will be written in the Map Service Metadata subsection below. Inversely, if you want to use an external capabilities file, set to true and the next parameter (location of the capabilities file) must be given.
B28: Specify the location and prefix of the capabilities file | C28: Only necessary if the option "Use external capabilities file" for WMS is set to true.
B29: WCS | C29: If you want to activate the OGC WCS capabilities for your Image service, set this to true.
B30: Use external capabilities file | C30: Set this to false if you want the WCS metadata to be filled from what will be written in the Image Service Metadata subsection below. Inversely, if you want to use an external capabilities file, set to true and the next parameter (location of the capabilities file) must be given.
B31: Specify the location and prefix of the capabilities file | C31: Only necessary if the option "Use external capabilities file" for WMS is set to true.
B32: Access and Use Constraints | C32: Enter a text that describes the restrictions and legals prequisites for accessing and using the service. This will be added into the ESRI REST web service and the WMS metadata. The merge of the french part and the english part must totalize less than 2250 characters. | D32: Licence du gouvernement ouvert - Canada (http://ouvert.canada.ca/fr/licence-du-gouvernement-ouvert-canada) | E32: Open Government Licence - Canada (http://open.canada.ca/en/open-government-licence-canada)
B35: WMS service metadata (If D22 = true & D23 = false)
B36: WCS service metadata (If D25 = true & D26 = false)
C37: ADDITIONAL INFO | D37: English | E37: French
B38: Contact organization | C38: Enter here the organization that created the service.This will be added into the WMS metadata. | D38: Government of Canada; Natural Resources Canada | E38: Gouvernement du Canada; Ressources naturelles Canada
B39: Contact Voice Telephone | C39: Enter here the telephone number where the primary contact person for the service can be reached. This will be added into the WMS metadata. | D39: 1 (800) 661 2638 | E39: 1 (800) 661 2638
B40: Contact Electronic Mail Address | C40: Enter here the email address where the primary contact person for the service can be reached.This will be added into the WMS metadata. | D40: NRCan.fgp-pgf.RNCan@Canada.ca | E40: NRCan.fgp-pgf.RNCan@Canada.ca

Sheet 3- Conditioning Parameters
B4: Conditioning Parameters
B5: Parameter Name | C5: Value | D5: ADDITIONAL INFO
B6: Conditioning Workspace | D6: Name of the conditioning workspace (with .fmw extension)
B8: Conditioning Workspace Parameters
B9: Parameter Name | C9: Value | D9: ADDITIONAL INFO
D10: Insert all the parameters and their value for the conditioning workspace.

Sheet WORKSPACE_PARAMETERS
A1: PARAMETER_NAME | B1: PARAMETER_VALUE
A2: =IF(ISBLANK('3- Conditioning Parameters'!B10),"",'3- Conditioning Parameters'!B10) | B2: =IF(ISBLANK('3- Conditioning Parameters'!C10),"",'3- Conditioning Parameters'!C10)
A3: =IF(ISBLANK('3- Conditioning Parameters'!B11),"",'3- Conditioning Parameters'!B11) | B3: =IF(ISBLANK('3- Conditioning Parameters'!C11),"",'3- Conditioning Parameters'!C11)
A4: =IF(ISBLANK('3- Conditioning Parameters'!B12),"",'3- Conditioning Parameters'!B12) | B4: =IF(ISBLANK('3- Conditioning Parameters'!C12),"",'3- Conditioning Parameters'!C12)
A5: =IF(ISBLANK('3- Conditioning Parameters'!B13),"",'3- Conditioning Parameters'!B13) | B5: =IF(ISBLANK('3- Conditioning Parameters'!C13),"",'3- Conditioning Parameters'!C13)
A6: =IF(ISBLANK('3- Conditioning Parameters'!B14),"",'3- Conditioning Parameters'!B14) | B6: =IF(ISBLANK('3- Conditioning Parameters'!C14),"",'3- Conditioning Parameters'!C14)
A7: =IF(ISBLANK('3- Conditioning Parameters'!B15),"",'3- Conditioning Parameters'!B15) | B7: =IF(ISBLANK('3- Conditioning Parameters'!C15),"",'3- Conditioning Parameters'!C15)
A8: =IF(ISBLANK('3- Conditioning Parameters'!B16),"",'3- Conditioning Parameters'!B16) | B8: =IF(ISBLANK('3- Conditioning Parameters'!C16),"",'3- Conditioning Parameters'!C16)
A9: =IF(ISBLANK('3- Conditioning Parameters'!B17),"",'3- Conditioning Parameters'!B17) | B9: =IF(ISBLANK('3- Conditioning Parameters'!C17),"",'3- Conditioning Parameters'!C17)
A10: =IF(ISBLANK('3- Conditioning Parameters'!B18),"",'3- Conditioning Parameters'!B18) | B10: =IF(ISBLANK('3- Conditioning Parameters'!C18),"",'3- Conditioning Parameters'!C18)
A11: =IF(ISBLANK('3- Conditioning Parameters'!B19),"",'3- Conditioning Parameters'!B19) | B11: =IF(ISBLANK('3- Conditioning Parameters'!C19),"",'3- Conditioning Parameters'!C19)

Sheet CONDITIONING_PARAMETERS
A1: WORKSPACE | B1: OPERATION
A2: =IF(ISBLANK('3- Conditioning Parameters'!C6),"",'3- Conditioning Parameters'!C6) | B2: Update

Sheet SERVICE_PARAMETERS
A1: SERVICE_NAME | B1: SERVICE_TYPE | C1: IN_FGDB_FILENAME | D1: IN_RASTER_DATASET_FILENAME | E1: OPERATIONS_ALLOWED | F1: ALLOW_FUNCTION | G1: IS_REFERENCED | H1: PRIMARY_MD_NAME | I1: ALLOW_FUNCTION_PRIMARY | J1: WMS_ENABLED | K1: WMS_CUSTOM_GETCAP | L1: WMS_PATH_GETCAP | M1: WCS_ENABLED | N1: WCS_CUSTOM_GETCAP | O1: WCS_PATH_GETCAP | P1: GEODATA_SERVICE | Q1: SERVICE_FOLDER_NAME | R1: ITEMINFO_ACCESS | S1: ITEMINFO_CONTACT_ORGANIZATION | T1: ITEMINFO_CONTACT_TELEPHONE | U1: ITEMINFO_CONTACT_MAIL | V1: LANGUAGE
A2: =IF(ISBLANK('2- Service Parameters'!D12),"",'2- Service Parameters'!D12) | B2: =IF(ISBLANK('2- Service Parameters'!D13),"",'2- Service Parameters'!D13) -> ImageServer | C2: =IF(ISBLANK('2- Service Parameters'!D16),"",'2- Service Parameters'!D16) | D2: =IF(ISBLANK('2- Service Parameters'!D14),"",'2- Service Parameters'!D14) -> 0 | E2: =IF(ISBLANK('2- Service Parameters'!D19),"",'2- Service Parameters'!D19) | F2: =IF(ISBLANK('2- Service Parameters'!D20),"",'2- Service Parameters'!D20) | G2: =IF(ISBLANK('2- Service Parameters'!D22),"",'2- Service Parameters'!D22) | H2: =IF(ISBLANK('2- Service Parameters'!D23),"",'2- Service Parameters'!D23) | I2: =IF(ISBLANK('2- Service Parameters'!D24),"",'2- Service Parameters'!D24) | J2: =IF(ISBLANK('2- Service Parameters'!D26),"",'2- Service Parameters'!D26) | K2: =IF(ISBLANK('2- Service Parameters'!D27),"",'2- Service Parameters'!D27) | L2: =IF(ISBLANK('2- Service Parameters'!D28),"",'2- Service Parameters'!D28) | M2: =IF(ISBLANK('2- Service Parameters'!D29),"",'2- Service Parameters'!D29) | N2: =IF(ISBLANK('2- Service Parameters'!D30),"",'2- Service Parameters'!D30) | O2: =IF(ISBLANK('2- Service Parameters'!D31),"",'2- Service Parameters'!D31) | P2: =IF(M2="true","true","false") -> false | Q2: =IF(ISBLANK('2- Service Parameters'!D17),"",'2- Service Parameters'!D17) | R2: =IF(ISBLANK('2- Service Parameters'!D32),"",'2- Service Parameters'!D32) -> Licence du gouvernement ouvert - Canada (http://ouvert.canada.ca/fr/licence-du-gouvernement-ouvert-canada) | S2: =IF(ISBLANK('2- Service Parameters'!D38),"",'2- Service Parameters'!D38) -> Government of Canada; Natural Resources Canada | T2: =IF(ISBLANK('2- Service Parameters'!D39),"",'2- Service Parameters'!D39) -> 1 (800) 661 2638 | U2: =IF(ISBLANK('2- Service Parameters'!D40),"",'2- Service Parameters'!D40) -> NRCan.fgp-pgf.RNCan@Canada.ca | V2: =IF(ISBLANK('2- Service Parameters'!D11),"",'2- Service Parameters'!D11)
A3: =IF(ISBLANK('2- Service Parameters'!E12),"",'2- Service Parameters'!E12) | B3: =IF(ISBLANK('2- Service Parameters'!E13),"",'2- Service Parameters'!E13) -> ImageServer | C3: =IF(ISBLANK('2- Service Parameters'!E16),"",'2- Service Parameters'!E16) | D3: =IF(ISBLANK('2- Service Parameters'!E14),"",'2- Service Parameters'!E14) -> 0 | E3: =IF(ISBLANK('2- Service Parameters'!E19),"",'2- Service Parameters'!E19) | F3: =IF(ISBLANK('2- Service Parameters'!E20),"",'2- Service Parameters'!E20) | G3: =IF(ISBLANK('2- Service Parameters'!E22),"",'2- Service Parameters'!E22) | H3: =IF(ISBLANK('2- Service Parameters'!E23),"",'2- Service Parameters'!E23) | I3: =IF(ISBLANK('2- Service Parameters'!E24),"",'2- Service Parameters'!E24) | J3: =IF(ISBLANK('2- Service Parameters'!E26),"",'2- Service Parameters'!E26) | K3: =IF(ISBLANK('2- Service Parameters'!E27),"",'2- Service Parameters'!E27) | L3: =IF(ISBLANK('2- Service Parameters'!E28),"",'2- Service Parameters'!E28) | M3: =IF(ISBLANK('2- Service Parameters'!E29),"",'2- Service Parameters'!E29) | N3: =IF(ISBLANK('2- Service Parameters'!E30),"",'2- Service Parameters'!E30) | O3: =IF(ISBLANK('2- Service Parameters'!E31),"",'2- Service Parameters'!E31) | P3: =IF(M3="true","true","false") -> false | Q3: =IF(ISBLANK('2- Service Parameters'!E17),"",'2- Service Parameters'!E17) | R3: =IF(ISBLANK('2- Service Parameters'!E32),"",'2- Service Parameters'!E32) -> Open Government Licence - Canada (http://open.canada.ca/en/open-government-licence-canada) | S3: =IF(ISBLANK('2- Service Parameters'!E38),"",'2- Service Parameters'!E38) -> Gouvernement du Canada; Ressources naturelles Canada | T3: =IF(ISBLANK('2- Service Parameters'!E39),"",'2- Service Parameters'!E39) -> 1 (800) 661 2638 | U3: =IF(ISBLANK('2- Service Parameters'!E40),"",'2- Service Parameters'!E40) -> NRCan.fgp-pgf.RNCan@Canada.ca | V3: =IF(ISBLANK('2- Service Parameters'!E11),"",'2- Service Parameters'!E11)

Sheet ListDomains
I2: Abbreviations_Abreviation
I3: Aboriginal-affairs_Affaires-autochtones
B4: Service Langage | I4: Aboriginal-businesses_Entreprise-autochtone
B5: Bilingual | D5: true | F5: Map,Data,Query | I5: Aboriginal-culture_Culture-autochtone
B6: French | D6: false | F6: Map,Query | I6: Aboriginal-governments_Gouvernement-autochtone
B7: English | F7: Map,Data | I7: Aboriginal-lands_Terres-autochtones
I8: Aboriginal-languages_Langue-autochtone
I9: Aboriginal-law_Droit-autochtone
I10: Aboriginal-peoples_Autochtones
I11: Aboriginal-policing_Police-des-autochtones
I12: Aboriginal-programs_Programme-pour-autochtones
I13: Aboriginal-reserves_Reserve-autochtone
I14: Aboriginal-rights_Droits-des-autochtones
I15: Aboriginal-youth_Jeune-autochtone
I16: Abortion_Avortement
I17: Access-to-education_Acces-a-l-education
I18: Access-to-information_Acces-a-l-information
I19: Accessibility_Accessibilite
... I22: Accident-prevention_Prevention-des-accidents
C23: Extension | D23: DataSet Format | I23: Accidents_Accident
C24: .gdb.zip | D24: File Geodatabase | I24: Accountability_Imputabilite
C25: .shp.zip | D25: Shapefile | I25: Accounting_Comptabilite
C26: .kml | D26: KML | I26: Accounting-standards_Normes-comptables
C27: .kmz | D27: KMZ | I27: Acculturation_Acculturation
C28: .json | D28: JSON | I28: Acid-rain_Pluies-acides
C29: .geojson | D29: GeoJSON | I29: Acquisitions-Businesses_Acquisition-Entreprise
C30: .csv | D30: CSV (comma separated values) | I30: Acquittal_Acquittement
C31: .txt | D31: Text File | I31: Actuarial-science_Actuariat
C32: .docx | D32: Word Document | I32: Addiction_Dependance
C33: .pdf | D33: PDF | I33: Adjustment_Adaptation
C34: .xlsx | D34: Excel File | I34: Administrative-data_Donnees-administratives
... C41: .gif | D41: GIF | I41: Adoptive-parents_Parent-adoptif
D42: Other | I42: Adulthood_Âge-adulte
I43: Adults_Adulte
B44: Operations Allowed (RD) | I44: Advertising_Publicite
B45: Image,Mensuration,Metadata | I45: Advisory-committees_Comite-consultatif
B46: Image,Metadata | I46: Advisory-services_Services-consultatifs
B47: Image,Mensuration | I47: Advocacy_Defense-des-droits
B48: Image | I48: Aerial-photography_Photographie-aerienne
I49: Aeronautical-maps_Carte-aeronautique
...
